BEGIN:VCALENDAR
VERSION:2.0
PRODID:-//Buchverlag - Starke Geschichten - ECPv6.15.20//NONSGML v1.0//EN
CALSCALE:GREGORIAN
METHOD:PUBLISH
X-ORIGINAL-URL:https://sparkys-edition.de
X-WR-CALDESC:Veranstaltungen für Buchverlag - Starke Geschichten
REFRESH-INTERVAL;VALUE=DURATION:PT1H
X-Robots-Tag:noindex
X-PUBLISHED-TTL:PT1H
BEGIN:VTIMEZONE
TZID:UTC
BEGIN:STANDARD
TZOFFSETFROM:+0000
TZOFFSETTO:+0000
TZNAME:UTC
DTSTART:20250101T000000
END:STANDARD
END:VTIMEZONE
BEGIN:VEVENT
DTSTART;TZID=UTC:20260319T193000
DTEND;TZID=UTC:20260319T210000
DTSTAMP:20260422T135229
CREATED:20260307T154254Z
LAST-MODIFIED:20260307T154254Z
UID:4446-1773948600-1773954000@sparkys-edition.de
SUMMARY:Lesung Tom Oetter and Friends
DESCRIPTION:Drei Autoren – drei Romane – drei Welten \nTom Oetter liest aus Franken \nOlaf Wegermann liest von der Ostsee \nGeorg Brun liest aus Bayern \n  \n3 Freunde\, 3 Regionen\, 1 Ziel -keine alltäglichen Geschichten. \nTom Oetter\, Olaf Wegermann und Georg Brun lesen aus ihren Erfolgswerken. \nFür Tom Oetters Buch „Spatzenrennen“ erleben wir zugleich eine besondere Premierenlesung. \nModeration: Hubert Romer * Musik: Jannis Schneider \nFreuen Sie sich auf einen erlebnisreichen Abend\, mit herzhaften Dialogen\, guten Geschichten\, besonderer Musik und dem besten fränkischen Bier in Leipzig. \n 
URL:https://sparkys-edition.de/event/lesung-tom-oetter-and-friends
LOCATION:BIER AND ROLL\, Makranstädter Str. 1a\, Leipzig\, Sachsen\, 04229\, Germany
CATEGORIES:Lesung
ATTACH;FMTTYPE=image/jpeg:https://sparkys-edition.de/wp-content/uploads/2026/03/3.jpg
ORGANIZER;CN="Sparkys Edition":MAILTO:service@sparkys-edition.de
END:VEVENT
END:VCALENDAR