BEGIN:VCALENDAR
VERSION:2.0
PRODID:-//Buchverlag - Starke Geschichten - ECPv6.15.20//NONSGML v1.0//EN
CALSCALE:GREGORIAN
METHOD:PUBLISH
X-ORIGINAL-URL:https://sparkys-edition.de
X-WR-CALDESC:Veranstaltungen für Buchverlag - Starke Geschichten
REFRESH-INTERVAL;VALUE=DURATION:PT1H
X-Robots-Tag:noindex
X-PUBLISHED-TTL:PT1H
BEGIN:VTIMEZONE
TZID:UTC
BEGIN:STANDARD
TZOFFSETFROM:+0000
TZOFFSETTO:+0000
TZNAME:UTC
DTSTART:20240101T000000
END:STANDARD
END:VTIMEZONE
BEGIN:VEVENT
DTSTART;TZID=UTC:20251113T190000
DTEND;TZID=UTC:20251113T203000
DTSTAMP:20260420T100903
CREATED:20251026T182511Z
LAST-MODIFIED:20251101T060033Z
UID:1515-1763060400-1763065800@sparkys-edition.de
SUMMARY:Chur als Bühne. Das Hotel Stern als Kulisse - Lesung Gabrielle Götz und Paul Steinbeck
DESCRIPTION:Im Hotel Stern findet am 13.11.2025 eine besondere Lesung statt:\nDer deutsche Schriftsteller Paul Steinbeck und die Malanser Autorin Gabrielle Götz\nerzählen Geschichten\, die die Stadt Chur und das Hotel Stern streifen.\nSteinbeck liest aus seinem Krimi: Die Rache der Schwabenkinder.\nSeien Sie gespannt\, was sich in Chur zusammenbraut und was es mit dem Stern in dem Krimi auf sich hat.\nGötz zeigt zwischenmenschliche Momentaufnahmen\, die in Chur verortet sind und Verbindung zum Stern\nhaben.\nGenießeelle Götzen Sie in der gemütlichen Alois Carigiet Stube gute Unterhaltung mit einem\nfeinen Wein und loderndem Feuer. \nAnmeldung erbeten unter Tel. 81 258 57 57
URL:https://sparkys-edition.de/event/chur-als-buehne-das-hotel-stern-als-kulisse-lesung-gabrielle-goetz-und-paul-steinbeck
LOCATION:Hotel Stern Chur\, Reichsgasse 11\, Chur\, Graubünden\, 7000\, Switzerland
CATEGORIES:Lesung
ATTACH;FMTTYPE=image/png:https://sparkys-edition.de/wp-content/uploads/2025/10/Coverbilder.png
END:VEVENT
END:VCALENDAR