BEGIN:VCALENDAR
VERSION:2.0
PRODID:-//Buchverlag - Starke Geschichten - ECPv6.15.20//NONSGML v1.0//EN
CALSCALE:GREGORIAN
METHOD:PUBLISH
X-ORIGINAL-URL:https://sparkys-edition.de
X-WR-CALDESC:Veranstaltungen für Buchverlag - Starke Geschichten
REFRESH-INTERVAL;VALUE=DURATION:PT1H
X-Robots-Tag:noindex
X-PUBLISHED-TTL:PT1H
BEGIN:VTIMEZONE
TZID:UTC
BEGIN:STANDARD
TZOFFSETFROM:+0000
TZOFFSETTO:+0000
TZNAME:UTC
DTSTART:20230101T000000
END:STANDARD
END:VTIMEZONE
BEGIN:VEVENT
DTSTART;TZID=UTC:20240908T000000
DTEND;TZID=UTC:20240908T000000
DTSTAMP:20260420T132254
CREATED:20240818T144520Z
LAST-MODIFIED:20240818T144520Z
UID:953-1725753600-1725753600@sparkys-edition.de
SUMMARY:Jürgen Müller beim NCN-Musik-Festival\, Kulturpark Deutzen\, Sachsen
DESCRIPTION:Pop-up: Klaus Freisen\, siebenundzwanzig und Mathestudent\, geht Klausuren und Menschen aus dem Weg. \nAls die Eltern ihm sein Geld kürzen\, muss er handeln. In die Heimat möchte er nicht zurück\, also vermietet er zähneknirschend unter. \nJeff\, ein Familienvater\, und die Auszubildende Linda ziehen bei ihm ein. Besonders die umwerfende Freundin Lindas\, eine Studentin\, weckt in Klaus das Vertrauen\, wieder zu studieren. Nebenbei fängt er an zu leben. \nWäre da nicht dieser Hiobsbrief. \nJürgen Werner Müller\, Geb. 28.12.1971. Diplom-Kaufmann. Nach seinem Studium hat er für anderthalb Dekaden in Dortmund gelebt\, wo er für die Stadt und eine Werbeagentur arbeitete. \nErst eine joblose Phase zeigte ihm auf\, dass er sich allein fühlte. \nDeshalb reifte in ihm die Grundidee zum vorliegenden Roman „Pop-up“. \nEr vertieft sich nunmehr in Vollzeit darin\, Texte zu verfassen und zu überarbeiten. \n \n 
URL:https://sparkys-edition.de/event/juergen-mueller-beim-ncn-musik-festival-kulturpark-deutzen-sachsen
LOCATION:Kulturpark Deutzen\, Arno-Bahndorf-Straße 12\, Neukeritzsch\, Sachsen\, 04574\, Deutschland
CATEGORIES:Lesung
ATTACH;FMTTYPE=image/jpeg:https://sparkys-edition.de/wp-content/uploads/2023/12/Cover-Pop-up-U1-Juergen-W.-Mueller-1610.jpeg
END:VEVENT
BEGIN:VEVENT
DTSTART;TZID=UTC:20240927T190000
DTEND;TZID=UTC:20240927T210000
DTSTAMP:20260420T132254
CREATED:20240714T145509Z
LAST-MODIFIED:20240714T145509Z
UID:934-1727463600-1727470800@sparkys-edition.de
SUMMARY:Marita Sonnenberg und Nello Simeone lesen im THEATERLABOR TRAUMGESICHT D-Dorf
DESCRIPTION:Glückssache Sehnsucht. \nNello Simeone \nEs war einmal Deutschland – Gelobtes Land – Nello Simeone liest aus seinem autobiografischen Roman über Abschied\, Ankommen und den Preis der Freiheit. \nEs ist das Jahr 1965. Nello\, gerade 18 Jahre alt\, verlässt seine Heimat Italien\, um in Deutschland\, dem gelobten Land\, Arbeit und Glück zu finden. Bereit für ein neues Leben. \nIn seiner bewegenden\, emotionalen Erzählung gewährt Nello seinen LeserInnen einen beeindruckenden Perspektivwechsel. Sein Erleben\, seine Begegnungen mit Menschen und der neuen Kultur\, der hohe Preis der Freiheit. Der schmerzhafte Abschied von seiner Familie\, seiner Heimat\, die Einsamkeit in der Fremde. All dies schildert Nello in sehr persönlichen und bewegenden Dialogen geprägt von der Um- und Aufbruchstimmung der 60er Jahre. \nMarita Sonnenberg \nEinen trügerischen Sommer lang – Marita Sonnenberg liest aus ihrem Roman über Leidenschaft und Anziehungskraft im fiktiven Raum. \nFlorentina und Viktor lernen sich über eine Kontaktanzeige kennen. Er ein erfolgreicher Unternehmer in Wien\, sie Kreativdirektorin in München. \nDie anfängliche Zurückhaltung ihrer Kommunikation wird schon sehr bald zu einer manisch getriebenen mit einem gefährlichen Frage-Antwort-Spiel. Grenzen werden überschritten. Ein verhängnisvoller Kontrollverlust setzt ein. Beide spüren diese Gratwanderung\, in der sie verfangen. Die eine ungeheure Sogkraft entwickelt\, der sie sich nicht entziehen können. \nMarita Sonnenberg dokumentiert diesen fragilen und dennoch brutal fordernden Schriftwechsel in einer minutiösen Chronologie in Echtzeit. Hautnah und ungefiltert. \n  \n 
URL:https://sparkys-edition.de/event/marita-sonnenberg-und-nello-simeone-lesen-im-theaterlabor-traumgesicht-d-dorf
LOCATION:THEATERLABOR TRAUMGESICHT e.V.\, Georg-Glock-Str. 15\, Düsseldorf\, Nordrhein-Westfalen\, 40747\, Deutschland
CATEGORIES:Lesung
ATTACH;FMTTYPE=image/jpeg:https://sparkys-edition.de/wp-content/uploads/2024/07/Plakat-Marita-u-Nello-Theaterlabor-2024.jpg
END:VEVENT
END:VCALENDAR