BEGIN:VCALENDAR
VERSION:2.0
PRODID:-//Buchverlag - Starke Geschichten - ECPv6.15.20//NONSGML v1.0//EN
CALSCALE:GREGORIAN
METHOD:PUBLISH
X-ORIGINAL-URL:https://sparkys-edition.de
X-WR-CALDESC:Veranstaltungen für Buchverlag - Starke Geschichten
REFRESH-INTERVAL;VALUE=DURATION:PT1H
X-Robots-Tag:noindex
X-PUBLISHED-TTL:PT1H
BEGIN:VTIMEZONE
TZID:UTC
BEGIN:STANDARD
TZOFFSETFROM:+0000
TZOFFSETTO:+0000
TZNAME:UTC
DTSTART:20230101T000000
END:STANDARD
END:VTIMEZONE
BEGIN:VEVENT
DTSTART;TZID=UTC:20240420T171000
DTEND;TZID=UTC:20240421T174000
DTSTAMP:20260424T081438
CREATED:20240317T080713Z
LAST-MODIFIED:20240317T080920Z
UID:854-1713633000-1713721200@sparkys-edition.de
SUMMARY:Lutz Büge liest - im Kulturraum Offenbach
DESCRIPTION:Der KULTURRAUM ist eine Veranstaltungsreihe\, die von Offenbacher Kunst-und Kulturschaffenden gemeinsam im stadtraum des Rathauspavillon Offenbach gestaltet wird. Teil 2 findet am Samstag\, den 20. April (14-20Uhr) und Sonntag\, den 21.April (14-18Uhr) statt. Zu sehen gibt es Stillleben von Barbara Ziegert und Collagen von Janet Clauss. Auf der kleinen Bühne wird es musikalische Beiträge von Bettina Blöcher\, Autorenlesungen von Lutz Büge und eine Performance von Thomas Ditthardt geben. Außerdem bietet Anke Schmidts-Schopper einen Workshop zur Gestaltung von Karten im Collagen-Stil an. \nLutz Büge liest exklusiv am 20.4.\, 17:10-17:40 h aus seinem noch unveröffentlichten Werk „Der Wurstsalat kann warten -oder: Die kalte Erika“. \nAm 21.4.\, liest er um 17:10-17:40 h aus seinem viel beachteten Buch „Noah schläft -Die Rückkehr der Arche“.
URL:https://sparkys-edition.de/event/lutz-buege-liest-kulturraum-offenbach
LOCATION:Kulturraum Offenbach\, Rathauspavillon\, Offenbach\, Hessen\, Deutschland
CATEGORIES:Lesung
ATTACH;FMTTYPE=image/jpeg:https://sparkys-edition.de/wp-content/uploads/2023/07/Lutz-Buege-scaled.jpg
END:VEVENT
BEGIN:VEVENT
DTSTART;TZID=UTC:20240426T193000
DTEND;TZID=UTC:20240426T210000
DTSTAMP:20260424T081438
CREATED:20240211T091748Z
LAST-MODIFIED:20240229T044715Z
UID:812-1714159800-1714165200@sparkys-edition.de
SUMMARY:Helmut Jäger liest aus seinem aktuellen Krimi "Faule Äpfel"
DESCRIPTION:Zum Buch: Carl Sopran\, will nicht wahrhaben\, dass sich seine finanzielle Lage immer bedenklicher entwickelt. Vergeblich versucht er\, wieder Anschluss an seinen früheren Job als Journalist zu finden\, da erhält er eine Nachricht eines ehemaligen Kollegen. Ein litauischer Kriminellen-Clan soll auf der Suche nach exklusiven Immobilien in Süddeutschland und auch am Bodensee unterwegs sein. Es ist der Clan\, dem er vor Jahren bei Recherchen zu baltischen Autoschieberbanden gefährlich nahegekommen war. Während er für seinen Journalisten-Kollegen nach Hinweisen sucht\, überschlagen sich die Ereignisse. Ein Paketbote verschwindet spurlos. Im aufgefundenen Transporter befindet sich ein aufgerissenes Paket\, adressiert an Francesca Vianello\, die Partnerin aus seinem zweiten Fall. Wenig später verschwindet ein Fahrer eines Obsttransports auf ebenso seltsame Weise. Sopran kann nicht anders\, als zu ermitteln. Bald ist er etwas Entsetzlichem auf der Spur\, von dem er glaubt\, dass es deutschlandweit fatale Auswirkungen hätte\, wenn er es nicht stoppen kann. \nDie Schauplätze: Die Obstgärten nördlich des Bodensees. Eine stillgelegte Gärtnerei im Osten Münchens. Eine Berghütte im Montafon. \nCarl Soprans dritter Fall. \nBrisant. Packend. Erschreckend. \nDas meint der Autor zum Titel seines neuen Buches: »Der Apfel an sich steht als Symbol für die Region nördlich des Bodensees und der faule Apfel als Synonym für Verrottung und Verkommenheit. Wenn das nicht ein Stoff für einen Krimi ist\, der zum großen Teil im Bodenseehinterland\, aber auch in München\, Stuttgart und im Montafon spielt. In der Region findet er sein dramatisches Finale und die Story ist von höchst aktueller und Länder übergreifender Bedeutung.« \nSz
URL:https://sparkys-edition.de/event/helmut-jaeger-liest-aus-seinem-aktuellen-krimi-faule-aepfel
LOCATION:Roter Bücherei\, Klosterhof 14\, Rot an der Rot\, Baden-Württemberg\, 88430\, Deutschland
CATEGORIES:Lesung
ATTACH;FMTTYPE=image/jpeg:https://sparkys-edition.de/wp-content/uploads/2023/08/Faule-Aepfel-Helmut-Jaeger-Cover.jpg
END:VEVENT
END:VCALENDAR