BEGIN:VCALENDAR
VERSION:2.0
PRODID:-//Buchverlag - Starke Geschichten - ECPv6.15.20//NONSGML v1.0//EN
CALSCALE:GREGORIAN
METHOD:PUBLISH
X-ORIGINAL-URL:https://sparkys-edition.de
X-WR-CALDESC:Veranstaltungen für Buchverlag - Starke Geschichten
REFRESH-INTERVAL;VALUE=DURATION:PT1H
X-Robots-Tag:noindex
X-PUBLISHED-TTL:PT1H
BEGIN:VTIMEZONE
TZID:UTC
BEGIN:STANDARD
TZOFFSETFROM:+0000
TZOFFSETTO:+0000
TZNAME:UTC
DTSTART:20230101T000000
END:STANDARD
END:VTIMEZONE
BEGIN:VEVENT
DTSTART;VALUE=DATE:20241016
DTEND;VALUE=DATE:20241021
DTSTAMP:20260420T145257
CREATED:20240714T150754Z
LAST-MODIFIED:20240714T150754Z
UID:938-1729036800-1729468799@sparkys-edition.de
SUMMARY:Sparkys Edition wieder auf der Frankfurter Buchmesse
DESCRIPTION:Die Frankfurter Buchmesse bildet wieder ein Highlight des Bücherjahres 2024. \nAuch wir sind wieder dort vertreten. Auf dem Gemeinschaftstand unabhängiger Verlage. \nIhr findet uns in Halle 3.1 auf den Standnummern H61 und H62. \nWir freuen uns wieder auf zahlreiche Begegnungen.
URL:https://sparkys-edition.de/event/sparkys-edition-wieder-auf-der-frankfurter-buchmesse
LOCATION:Frankfurter Messe\, Ludwig-Erhard-Anlage 1\, Frankfurt\, Hessen\, 60327\, Deutschland
CATEGORIES:Buchmesse
ATTACH;FMTTYPE=image/jpeg:https://sparkys-edition.de/wp-content/uploads/2024/07/Frankfurter-Buchmesse-2024.jpg
END:VEVENT
BEGIN:VEVENT
DTSTART;TZID=UTC:20241018T170000
DTEND;TZID=UTC:20241018T173000
DTSTAMP:20260420T145257
CREATED:20241001T183146Z
LAST-MODIFIED:20241001T183146Z
UID:1001-1729270800-1729272600@sparkys-edition.de
SUMMARY:Tiefgefroren in Offenbach - Lutz Büge liest auf der Frankfurter Buchmesse
DESCRIPTION:Der letzte Arbeitstag. Achim Plibischonka\, Journalistenlegende\, denkt nicht daran\, den Stift abzugeben und in Frührente zu gehen. Er hat Pläne. Da wird in einem öffentlichen Mülleimer eine abgesägte\, tiefgefrorene Frauenhand gefunden. Sofort ist Achim\, der alte Profi\, wieder eingespannt und berichtet für die Zeitung\, die ihn soeben erst ausgemustert hat. Zum letzten Mal\, wenn es nach ihm geht. Für Kommissar Mesut Yıldırım hingegen ist dies der erste Fall seiner Laufbahn. Und das in Offenbach\, der angeblich härtesten Stadt Hessens! Mesut bekommt viel zu tun: Weitere Körperteile tauchen auf. Achim und Mesut ermitteln auf jeweils eigenen Wegen und ahnen nicht\, dass sie in derselben Sache unterwegs sind. Lange tappen die grundverschiedenen Spürnasen im Dunkeln\, bis sie auf eine scheinbar verlassene Scheune im Wald stoßen. Darin steht eine Tiefkühltruhe. Doch die ist nicht leer. \nPräsentatorin: Ulrike Spitz \n \nLutz Büge\, geboren am 10. Juni 1964 in Eutin\, lebt und arbeitet seit 2001 im Rhein-Main-Gebiet\, zunächst in Frankfurt\, seit 2010 in Offenbach. Im Brotberuf ist er Redakteur der Frankfurter Rundschau\, bei der er seit 2007 das Leserforum verantwortet und unter dem Namen Bronski Ombudsmann der Leserinnen und Leser ist. „Bronski“ ist auch der Name des Blogs\, das er für die FR betreut. Seine erste Romanveröffentlichung „Uschi\, Lotte und Amerika“ stammt aus dem Jahr 1996. Seit 2013 veröffentlichte Büge Romane als E-Books. 2015 gründete sein Lebenspartner den Ybersinn-Verlag\, in dem der „Virenkrieg“-Zyklus (fünf Bände) im Print erschienen ist. Mit „Genetics“ gewann Büge 2022 den zweiten Platz beim Wettbewerb des Frankfurter Autorentheaters. 2023 erschien der SciFi-Roman „Noah schläft“ bei Sparkeys Edition.
URL:https://sparkys-edition.de/event/tiefgefroren-in-offenbach-lutz-buege-liest-auf-der-frankfurter-buchmesse
LOCATION:Frankfurter Buchmesse\, Stand der Frankfurter Rundschau\, Halle 3.1/C48\, Frankfurter Buchmesse\, Frankfurt\, Deutschland
CATEGORIES:Buchmesse,Lesung
ATTACH;FMTTYPE=image/jpeg:https://sparkys-edition.de/wp-content/uploads/2024/10/Cover-U1-die-kalte-Erika-Lutz-Buege-8_24.jpg
END:VEVENT
END:VCALENDAR